Workbook

Sheet СОД
A1: столбцы не трогать!
D3: Содержание модели
D6: Код | E6: Наименование | F6: Описание | G6: Ссылка
D7: 1 | E7: 2 | F7: 3 | G7: 4
D8: ГЛОССАРИЙ | E8: Список сокращений | F8: Список используемых сокращений | G8: ГЛОССАРИЙ!
D9: 10101 | E9: Регистр "Доходы в виде процентов по долговым обязательствам (кроме доходов в виде процентов: по договорам займа ценных бумаг, по ценным бумагам и на депо премий по рискам, принятым в перестрахование)" | F9: Надстроечный регистр с указанием конкретных граф, их типов, взаимосвязи | G9: регистр 10101
D10: 10102 | E10: Регистр "Расходы в виде процентов по долговым обязательствам (кроме расходов в виде процентов: по договорам займа ценных бумаг, по ценным бумагам и на депо премий по рискам, принятым в перестрахование)" | F10: Надстроечный регистр с указанием конкретных граф, их типов, взаимосвязи | G10: регистр 10102
D11: 10103 | E11: Регистр "Размер контролируемой задолженности" | F11: Надстроечный регистр с указанием конкретных граф, их типов, взаимосвязи | G11: регистр 10103
D12: 10104 | E12: Регистр "Расходы в виде процентов по контролируемой задолженности" | F12: Надстроечный регистр с указанием конкретных граф, их типов, взаимосвязи | G12: регистр 10104
D13: 10109 | E13: Регистр "Тест по наличию оснований для контроля корректности определения предельного размера процентов, подлежащих включению в состав расходов по контролируемой задолженности" | F13: Надстроечный регистр с указанием конкретных граф, их типов, взаимосвязи | G13: регистр 10109
D14: 10110 | E14: Регистр "Расчет интервалов предельных значений процентных ставок по контролируемым сделкам" | F14: Надстроечный регистр с указанием конкретных граф, их типов, взаимосвязи | G14: регистр 10110
D15: 10111 | E15: Регистр "Исчисление и удержание налоговым агентом суммы налога с процентных доходов иностранной организации, в том числе приравненных к дивидендам по контролируемой задолженности" | F15: Надстроечный регистр с указанием конкретных граф, их типов, взаимосвязи | G15: регистр 10111
D16: СТР_НО | E16: Общая структура регистров | F16: Общая структура регистров, формируемых как налогоплательщиками, так и формируемых на стороне налоговых органов и взаимосвязь между регистрами | G16: СТР_НО!

Sheet ГЛОССАРИЙ
A1: столбцы не трогать!
D3: Список сокращений
D6: №п/п | E6: Сокращенное наименование | F6: Полное наименование
D7: 1 | E7: 2 | F7: 3
D8: 1 | E8: ВЗЛ | F8: Взаимозависимое лицо
D9: 2 | E9: ДО | F9: Долговые обязательства
D10: 3 | E10: КЗ | F10: Контролируемая задолженность
D11: 4 | E11: КНД | F11: Код налогового документа
D12: 5 | E12: КС | F12: Контролируемая сделка
D13: 6 | E13: НК РФ | F13: Налоговый кодекс Российской Федерации
D14: 7 | E14: ОКВ | F14: Общероссийский классификатор валют
D15: 8 | E15: ОКСМ | F15: Общероссийский классификатор стран мира
D16: 9 | E16: ЦБ РФ | F16: Центральный Банк Российской Федерации
D17: 10 | E17: СОИДН | F17: Соглашение об избежании двойного налогообложения

Sheet 10109
A1: содержание модели
A2: столбцы/строки с серой заливкой не трогать!
A3: Заголовочная часть регистра
A4: KODRR | B4: NUMCC | C4: KODCR | D4: NAIMCR | F4: TYPECR | G4: NAIMSPR | H4: KODSPR | I4: PNK, STNK | J4: ALG01
A5: Раздел регистра (1 - заголовочная часть, 2 - табличная часть) | B5: Номер графы регистра | C5: Код графы регистра | D5: Наименование графы регистра | F5: Тип графы | G5: Наименование справочника | H5: Код справочника | I5: текстовый формат (для пояснений) | J5: Формула условий переноса данных из других регистров
A6: 1 | B6: 01 | C6: 10109101 | D6: ИНН / Регистрационный номер в стране регистрации организации | F6: типовой элемент <ИННЮЛТип>
A7: 1 | B7: 02 | C7: 10109102 | D7: Наименование организации | F7: строка
A8: 1 | B8: 03 | C8: 10109103 | D8: Статус организации (1 - Банк или организация, занимающаяся лизинговой деятельностью; 2 - МХК, удовлетворяющая условиям применения пониженной ставки; 3 - прочая организация, в т.ч. прочая МХК) | F8: число (0) | I8: п. 3 ст. 269 НК РФ п. 4 ст 269 НК РФ пп. 5 п. 4 ст. 284 НК РФ
A9: 1 | B9: 04 | C9: 10109104 | D9: Код налога | E9: 12504 | F9: справочник | G9: Ведомственный Справочник ФНС России – перечень налогов, сборов, страховых взносов (Справочник СПНС), порядок ведения которого утвержден Приказом ФНС России от 18.04.2023 № ЕД-7-23/254@ | H9: 0000008
A10: 1 | B10: 05 | C10: 10109105 | D10: Наименование налога, сбора, страховых взносов | E10: Налог на прибыль | F10: справочник | G10: Ведомственный Справочник ФНС России – перечень налогов, сборов, страховых взносов (Справочник СПНС), порядок ведения которого утвержден Приказом ФНС России от 18.04.2023 № ЕД-7-23/254@ | H10: 0000008
A11: 1 | B11: 06 | C11: 10109106 | D11: Код отчетного (налогового) периода | F11: справочник | G11: Коды, определяющие отчетный (налоговый) период, установленные в Приложении N 1 к Порядку заполнения налоговой декларации по налогу на прибыль организаций, утвержденному приказом ФНС России от 02.10.2024 N ЕД-7-3/830@ | H11: 0000003
A12: 1 | B12: 07 | C12: 10109107 | D12: Отчетный год | F12: дата (ГГГГ)
A13: 1 | B13: 08 | C13: 10109108 | D13: Код регистра | E13: 10109 | F13: справочник
A14: 1 | B14: 09 | C14: 10109109 | D14: Наименование регистра | E14: Тест по наличию оснований для контроля корректности определения предельного размера процентов, подлежащих включению в состав расходов по контролируемой задолженности | F14: справочник
A15: 1 | B15: 10 | C15: 10109110 | D15: Номер корректировки | F15: число (0)
A16: 1 | B16: 11 | C16: 10109111 | D16: Регистрационный номер декларации | F16: число (0)
A18: Табличная часть регистра
A19: Элементы сервиса
A20: SREG05 | B20: VARNAME | C20: Сервис | D20: TaxReg10102Info | E20: TaxReg10102Info | F20: TaxReg10102Info | G20: TaxReg10102Info | H20: TaxReg10102Info | I20: TaxReg10102Info | J20: TaxReg10102Info | K20: TaxReg10102Info | L20: TaxReg10102Info
A21: SREG05 | B21: VARNAME | C21: Элемент | D21: TaxReg10102InfoBody | E21: TaxReg10102InfoBody | F21: TaxReg10102InfoBody | G21: TaxReg10102InfoBody | H21: TaxReg10102InfoBody | I21: TaxReg10102InfoBody | J21: TaxReg10102InfoBody | K21: TaxReg10102InfoBody | L21: TaxReg10102InfoBody
A22: SREG05 | B22: VARNAME | C22: Элемент | D22: RegisterRecord10109 | E22: RegisterRecord10109 | F22: RegisterRecord10109 | G22: RegisterRecord10109 | H22: RegisterRecord10109 | I22: RegisterRecord10109 | J22: RegisterRecord10109 | K22: RegisterRecord10109 | L22: RegisterRecord10109
A23: SREG05 | B23: SERVDESCR | C23: Описание | D23: Информация о записях регистра 10109. | E23: Информация о записях регистра 10109. | F23: Информация о записях регистра 10109. | G23: Информация о записях регистра 10109. | H23: Информация о записях регистра 10109. | I23: Информация о записях регистра 10109. | J23: Информация о записях регистра 10109. | K23: Информация о записях регистра 10109. | L23: Информация о записях регистра 10109.
A24: - | B24: - | C24: Признак обязательности элемента | D24: ОМ | E24: ОМ | F24: ОМ | G24: ОМ | H24: ОМ | I24: ОМ | J24: ОМ | K24: ОМ | L24: ОМ
A25: - | B25: - | C25: Размерность элемента
A26: SREG05 | B26: VARNAME | C26: Элемент | D26: RecordId | E26: RecordDate | F26: SumAllDebtObligationsRUB | G26: EquityInfo | H26: EquityInfo | I26: EquityInfo | J26: EquityInfo | K26: SumRatioInfo | L26: SumRatioInfo
A27: SREG05 | B27: SERVDESCR | C27: Описание | D27: Идентификатор записи в системе налогоплательщика. Идентификатор должен быть уникальным по каждой записи. | E27: Дата записи в системе налогоплательщика. | F27: Сумма всех долговых обязательств на последнее число отчетного (налогового) периода, в рублях | G27: Сведения о собственном капитале. | H27: Сведения о собственном капитале. | I27: Сведения о собственном капитале. | J27: Сведения о собственном капитале. | K27: Сведения об отношении сумм. | L27: Сведения об отношении сумм.
A28: - | B28: - | C28: Признак обязательности элемента | D28: О | E28: О | F28: О | G28: О | H28: О | I28: О | J28: О | K28: О | L28: О
A29: - | B29: - | C29: Размерность элемента | D29: (=36) | F29: (17.2)
A30: SREG05 | B30: VARNAME | C30: Элемент | D30: 0 | E30: 0 | F30: 0 | G30: SumAssetRUB | H30: SumObligationRUB | I30: SumTaxDebtRUB | J30: ShareholdersEquityRUB | K30: SumDebtEquityRatioRUB | L30: ReasonRequestData
A31: SREG05 | B31: SERVDESCR | C31: Описание | D31: #N/A | E31: #N/A | F31: #N/A | G31: Сумма активов на последнее число отчетного (налогового) периода, в рублях | H31: Сумма обязательств на последнее число отчетного (налогового) периода, в рублях | I31: Сумма задолженности по налогам и сборам на последнее число отчетного (налогового) периода, в рублях | J31: Собственный капитал на последнее число отчетного (налогового) периода, в рублях | K31: Отношение суммы всех долговых обязательств к собственному капиталу на последнее число отчетного (налогового) периода, в рублях Элемент обязателен для <ShareholdersEquityRUB> > 0 | L31: Имеются основания для запроса данных для контроля корректности определения предельного размера процентов, подлежащих включению в состав расходов по контролируемой задолженности. Принимает значение: 1 – да | 2 – нет
A32: - | B32: - | C32: Признак обязательности элемента | D32: #N/A | E32: #N/A | F32: #N/A | G32: О | H32: О | I32: О | J32: О | K32: НУ | L32: ОК
A33: - | B33: - | C33: Размерность элемента | D33: #N/A | E33: #N/A | F33: #N/A | G33: (17.2) | H33: (17.2) | I33: (17.2) | J33: (17.2) | K33: (17.2) | L33: (=1), значения:1|2
A34: SREG05 | B34: VARNAME | C34: Элемент | D34: 0 | E34: 0 | F34: 0 | G34: 0 | H34: 0 | I34: 0 | J34: 0 | K34: 0 | L34: 0
A35: SREG05 | B35: SERVDESCR | C35: Описание | D35: #N/A | E35: #N/A | F35: #N/A | G35: #N/A | H35: #N/A | I35: #N/A | J35: #N/A | K35: #N/A | L35: #N/A
A36: - | B36: - | C36: Признак обязательности элемента | D36: #N/A | E36: #N/A | F36: #N/A | G36: #N/A | H36: #N/A | I36: #N/A | J36: #N/A | K36: #N/A | L36: #N/A
A37: - | B37: - | C37: Размерность элемента | D37: #N/A | E37: #N/A | F37: #N/A | G37: #N/A | H37: #N/A | I37: #N/A | J37: #N/A | K37: #N/A | L37: #N/A
A38: SREG05 | B38: VariableType | C38: Тип элемента
A39: Элементы справочника регистров
A40: SREG05 | B40: KODRR | C40: Раздел регистра (1 - заголовочная часть, 2 - табличная часть) | D40: 2 | E40: 2 | F40: 2 | G40: 2 | H40: 2 | I40: 2 | J40: 2 | K40: 2 | L40: 2
A41: SREG05 | B41: NAIMCR | C41: Наименование графы регистра | D41: Идентификатор записи | E41: Дата записи | F41: Сумма всех долговых обязательств на последнее число отчетного (налогового) периода, в рублях | G41: Сумма активов на последнее число отчетного (налогового) периода, в рублях | H41: Сумма обязательств на последнее число отчетного (налогового) периода, в рублях | I41: Сумма задолженности по налогам и сборам на последнее число отчетного (налогового) периода, в рублях | J41: Собственный капитал на последнее число отчетного (налогового) периода, в рублях | K41: Отношение суммы всех долговых обязательств к собственному капиталу на последнее число отчетного (налогового) периода, в рублях | L41: Имеются основания для запроса данных для контроля корректности определения предельного размера процентов, подлежащих включению в состав расходов по контролируемой задолженности (1 - да, 2 - нет)
...

Sheet 10101
A1: содержание модели
A2: столбцы/строки с серой заливкой не трогать!
A3: Заголовочная часть регистра
A4: KODRR | B4: NUMCC | C4: KODCR | D4: NAIMCR | F4: TYPECR | G4: NAIMSPR | H4: KODSPR | I4: PNK, STNK | J4: ALG01
A5: Раздел регистра (1 - заголовочная часть, 2 - табличная часть) | B5: Номер графы регистра | C5: Код графы регистра | D5: Наименование графы регистра | F5: Тип графы | G5: Наименование справочника | H5: Код справочника | I5: текстовый формат (для пояснений) | J5: Формула условий переноса данных из других регистров
A6: 1 | B6: 01 | C6: 10101101 | D6: ИНН / Регистрационный номер в стране регистрации организации | F6: типовой элемент <ИННЮЛТип>
A7: 1 | B7: 02 | C7: 10101102 | D7: Наименование организации | F7: строка
A8: 1 | B8: 03 | C8: 10101103 | D8: Статус организации (1 - Банк или организация, занимающаяся лизинговой деятельностью; 2 - МХК, удовлетворяющая условиям применения пониженной ставки; 3 - прочая организация, в т.ч. прочая МХК) | F8: число (0) | I8: п. 3 ст. 269 НК РФ п. 4 ст 269 НК РФ пп. 5 п. 4 ст. 284 НК РФ
A9: 1 | B9: 04 | C9: 10101104 | D9: Код налога | E9: 012501 | F9: справочник | G9: Ведомственный Справочник ФНС России – перечень налогов, сборов, страховых взносов (Справочник СПНС), порядок ведения которого утвержден Приказом ФНС России от 18.04.2023 № ЕД-7-23/254@ | H9: 0000008
A10: 1 | B10: 05 | C10: 10101105 | D10: Наименование налога, сбора, страховых взносов | E10: Налог на прибыль | F10: справочник | G10: Ведомственный Справочник ФНС России – перечень налогов, сборов, страховых взносов (Справочник СПНС), порядок ведения которого утвержден Приказом ФНС России от 18.04.2023 № ЕД-7-23/254@ | H10: 0000008
A11: 1 | B11: 06 | C11: 10101106 | D11: Код отчетного (налогового) периода | F11: справочник | G11: Коды, определяющие отчетный (налоговый) период, установленные в Приложении N 1 к Порядку заполнения налоговой декларации по налогу на прибыль организаций, утвержденному приказом ФНС России от 02.10.2024 N ЕД-7-3/830@ | H11: 0000003
A12: 1 | B12: 07 | C12: 10101107 | D12: Отчетный год | F12: дата (ГГГГ)
A13: 1 | B13: 08 | C13: 10101108 | D13: Код регистра | E13: 10101 | F13: справочник
A14: 1 | B14: 09 | C14: 10101109 | D14: Наименование регистра | E14: Доходы в виде процентов по долговым обязательствам (кроме доходов в виде процентов: по договорам займа ценных бумаг, по ценным бумагам и на депо премий по рискам, принятым в перестрахование) | F14: справочник
A15: 1 | B15: 10 | C15: 10101110 | D15: Номер корректировки | F15: число (0)
A16: 1 | B16: 11 | C16: 10101111 | D16: Регистрационный номер декларации | F16: число (0)
A18: Табличная часть регистра
A19: Элементы сервиса
A20: SREG05 | B20: VARNAME | C20: Сервис | D20: TaxReg10101Info | E20: TaxReg10101Info | F20: TaxReg10101Info | G20: TaxReg10101Info | H20: TaxReg10101Info | I20: TaxReg10101Info | J20: TaxReg10101Info | K20: TaxReg10101Info | L20: TaxReg10101Info | M20: TaxReg10101Info | N20: TaxReg10101Info | O20: TaxReg10101Info | P20: TaxReg10101Info | Q20: TaxReg10101Info | R20: TaxReg10101Info | S20: TaxReg10101Info | T20: TaxReg10101Info | U20: TaxReg10101Info | V20: TaxReg10101Info | W20: TaxReg10101Info | X20: TaxReg10101Info | Y20: TaxReg10101Info | Z20: TaxReg10101Info | AA20: TaxReg10101Info | AB20: TaxReg10101Info | AC20: TaxReg10101Info | AD20: TaxReg10101Info | AE20: TaxReg10101Info | AF20: TaxReg10101Info
A21: SREG05 | B21: VARNAME | C21: Элемент | D21: TaxReg10101InfoBody | E21: TaxReg10101InfoBody | F21: TaxReg10101InfoBody | G21: TaxReg10101InfoBody | H21: TaxReg10101InfoBody | I21: TaxReg10101InfoBody | J21: TaxReg10101InfoBody | K21: TaxReg10101InfoBody | L21: TaxReg10101InfoBody | M21: TaxReg10101InfoBody | N21: TaxReg10101InfoBody | O21: TaxReg10101InfoBody | P21: TaxReg10101InfoBody | Q21: TaxReg10101InfoBody | R21: TaxReg10101InfoBody | S21: TaxReg10101InfoBody | T21: TaxReg10101InfoBody | U21: TaxReg10101InfoBody | V21: TaxReg10101InfoBody | W21: TaxReg10101InfoBody | X21: TaxReg10101InfoBody | Y21: TaxReg10101InfoBody | Z21: TaxReg10101InfoBody | AA21: TaxReg10101InfoBody | AB21: TaxReg10101InfoBody | AC21: TaxReg10101InfoBody | AD21: TaxReg10101InfoBody | AE21: TaxReg10101InfoBody | AF21: TaxReg10101InfoBody
A22: SREG05 | B22: VARNAME | C22: Элемент | D22: RegisterRecord | E22: RegisterRecord | F22: RegisterRecord | G22: RegisterRecord | H22: RegisterRecord | I22: RegisterRecord | J22: RegisterRecord | K22: RegisterRecord | L22: RegisterRecord | M22: RegisterRecord | N22: RegisterRecord | O22: RegisterRecord | P22: RegisterRecord | Q22: RegisterRecord | R22: RegisterRecord | S22: RegisterRecord | T22: RegisterRecord | U22: RegisterRecord | V22: RegisterRecord | W22: RegisterRecord | X22: RegisterRecord | Y22: RegisterRecord | Z22: RegisterRecord | AA22: RegisterRecord | AB22: RegisterRecord | AC22: RegisterRecord | AD22: RegisterRecord | AE22: RegisterRecord | AF22: RegisterRecord
A23: SREG05 | B23: SERVDESCR | C23: Описание | D23: Информация о записях регистра. | E23: Информация о записях регистра. | F23: Информация о записях регистра. | G23: Информация о записях регистра. | H23: Информация о записях регистра. | I23: Информация о записях регистра. | J23: Информация о записях регистра. | K23: Информация о записях регистра. | L23: Информация о записях регистра. | M23: Информация о записях регистра. | N23: Информация о записях регистра. | O23: Информация о записях регистра. | P23: Информация о записях регистра. | Q23: Информация о записях регистра. | R23: Информация о записях регистра. | S23: Информация о записях регистра. | T23: Информация о записях регистра. | U23: Информация о записях регистра. | V23: Информация о записях регистра. | W23: Информация о записях регистра. | X23: Информация о записях регистра. | Y23: Информация о записях регистра. | Z23: Информация о записях регистра. | AA23: Информация о записях регистра. | AB23: Информация о записях регистра. | AC23: Информация о записях регистра. | AD23: Информация о записях регистра. | AE23: Информация о записях регистра. | AF23: Информация о записях регистра.
A24: - | B24: - | C24: Признак обязательности элемента | D24: ОМ | E24: ОМ | F24: ОМ | G24: ОМ | H24: ОМ | I24: ОМ | J24: ОМ | K24: ОМ | L24: ОМ | M24: ОМ | N24: ОМ | O24: ОМ | P24: ОМ | Q24: ОМ | R24: ОМ | S24: ОМ | T24: ОМ | U24: ОМ | V24: ОМ | W24: ОМ | X24: ОМ | Y24: ОМ | Z24: ОМ | AA24: ОМ | AB24: ОМ | AC24: ОМ | AD24: ОМ | AE24: ОМ | AF24: ОМ
A25: - | B25: - | C25: Размерность элемента
A26: SREG05 | B26: VARNAME | C26: Элемент | D26: RecordId | E26: RecordDate | F26: RecordType | G26: CounterpartyInfo | H26: CounterpartyInfo | I26: CounterpartyInfo | J26: ContractInfo | K26: ContractInfo | L26: ContractInfo | M26: ControlledTransactions | N26: ControlledTransactionsInfo | O26: ControlledTransactionsInfo | P26: ControlledTransactionsInfo | Q26: ControlledTransactionsInfo | R26: ControlledTransactionsInfo | S26: ControlledTransactionsInfo | T26: ControlledTransactionsInfo | U26: ControlledTransactionsInfo | V26: DebtIncomeInfo | W26: DebtIncomeInfo | X26: DebtIncomeInfo | Y26: DebtIncomeInfo | Z26: DebtIncomeInfo | AA26: DebtIncomeInfo | AB26: DebtIncomeInfo | AC26: DocInfo | AD26: DocInfo | AE26: DocInfo | AF26: DocInfo
A27: SREG05 | B27: SERVDESCR | C27: Описание | D27: Идентификатор записи в системе налогоплательщика. Идентификатор должен быть уникальным по каждой записи. | E27: Дата записи в системе налогоплательщика | F27: Показатель. Принимает значение в соответствии со справочником "Показатели классификатора ФНС" | G27: Сведения о контрагенте. | H27: Сведения о контрагенте. | I27: Сведения о контрагенте. | J27: Сведения о договоре. Элемент обязателен для <INNOrgRegNumber> ≠ ПУСТО и <CounterpartyName> ≠ ПУСТО | K27: Сведения о договоре. Элемент обязателен для <INNOrgRegNumber> ≠ ПУСТО и <CounterpartyName> ≠ ПУСТО | L27: Сведения о договоре. Элемент обязателен для <INNOrgRegNumber> ≠ ПУСТО и <CounterpartyName> ≠ ПУСТО | M27: Контролируемая сделка. Принимает значение: 1 – да | 2 – нет | N27: Сведения о контролируемой сделке. Элемент обязателен для <ControlledTransactions> = 1 | O27: Сведения о контролируемой сделке. Элемент обязателен для <ControlledTransactions> = 1 | P27: Сведения о контролируемой сделке. Элемент обязателен для <ControlledTransactions> = 1 | Q27: Сведения о контролируемой сделке. Элемент обязателен для <ControlledTransactions> = 1 | R27: Сведения о контролируемой сделке. Элемент обязателен для <ControlledTransactions> = 1 | S27: Сведения о контролируемой сделке. Элемент обязателен для <ControlledTransactions> = 1 | T27: Сведения о контролируемой сделке. Элемент обязателен для <ControlledTransactions> = 1 | U27: Сведения о контролируемой сделке. Элемент обязателен для <ControlledTransactions> = 1 | V27: Сведения о доходах ДО. | W27: Сведения о доходах ДО. | X27: Сведения о доходах ДО. | Y27: Сведения о доходах ДО. | Z27: Сведения о доходах ДО. | AA27: Сведения о доходах ДО. | AB27: Сведения о доходах ДО. | AC27: Сведения о документах. | AD27: Сведения о документах. | AE27: Сведения о документах. | AF27: Сведения о документах.
A28: - | B28: - | C28: Признак обязательности элемента | D28: О | E28: О | F28: ОК | G28: О | H28: О | I28: О | J28: НУ | K28: НУ | L28: НУ | M28: ОК | N28: НУ | O28: НУ | P28: НУ | Q28: НУ | R28: НУ | S28: НУ | T28: НУ | U28: НУ | V28: О | W28: О | X28: О | Y28: О | Z28: О | AA28: О | AB28: О | AC28: ОМ | AD28: ОМ | AE28: ОМ | AF28: ОМ
A29: - | B29: - | C29: Размерность элемента | D29: (=36) | F29: (1-1000) | M29: (=1),значения:1|2
A30: SREG05 | B30: VARNAME | C30: Элемент | D30: 0 | E30: 0 | F30: 0 | G30: CounterpartyType | H30: INNOrgRegNumber | I30: CounterpartyName | J30: ContractNumber | K30: ContractDate | L30: AccountNumberDeposit | M30: 0 | N30: EffectiveRate | O30: DeterminationMethod | P30: LimitValueDataInfo | Q30: LimitValueDataInfo | R30: LimitValueDataInfo | S30: LimitValueDataInfo | T30: MinMarketPrice | U30: TaxInterestRate | V30: RecognitionIncomeDate | W30: SumInterestIncomeCurrency | X30: CurrencyCode | Y30: RateExchange | Z30: SumInterestIncomeRUB | AA30: DifferenceRevenue | AB30: IncomeTypeCode | AC30: DocumentCode | AD30: DocNumber | AE30: DocDate | AF30: DocumentId
A31: SREG05 | B31: SERVDESCR | C31: Описание | D31: #N/A | E31: #N/A | F31: #N/A | G31: Контрагент. Принимает значение: 1 - физическое лицо| 2 - прочая организация, в т.ч. прочая МХК|3 - МХК, удовлетворяющая условиям применения пониженной ставки | H31: ИНН / Регистрационный номер в стране регистрации (инкорпорации) контрагента. Элемент обязателен для: 1) <OrgType> = 1 и <CounterpartyType> = 1 и <ControlledTransactions> = 1; 2) <OrgType> = 1 и <CounterpartyType> = 2 или 3; 3) <OrgType> = 2 или 3. | I31: Наименование контрагента/ ФИО. Элемент обязателен для: 1) <OrgType> = 1 и <CounterpartyType> = 1 и <ControlledTransactions> = 1; 2) <OrgType> = 1 и <CounterpartyType> = 2 или 3; 3) <OrgType> = 2 или 3. | J31: Номер договора | K31: Дата договора | L31: Номер счета вклада (депозита), банковского счета. Элемент обязателен для <RecordType> = «Доходы в виде процентов по депозитам, банковским вкладам» | «Доходы в виде процентов по договорам банковского счета» | «Доходы в виде процентов по банковским ссудам» | M31: Контролируемая сделка. Принимает значение: 1 - да| 2 - нет | N31: Фактическая ставка по договору, % | O31: Метод определения ставки, признаваемой для целей налогообложения. Принимает значение: 1 – исходя из интервала предельных значений по ст. 269 НК РФ | 2 – исходя из интервала рыночных цен | P31: Сведения о данных предельных значений. Элемент обязателен для <DeterminationMethod> = 1 | Q31: Сведения о данных предельных значений. Элемент обязателен для <DeterminationMethod> = 1 | R31: Сведения о данных предельных значений. Элемент обязателен для <DeterminationMethod> = 1 | S31: Сведения о данных предельных значений. Элемент обязателен для <DeterminationMethod> = 1 | T31: Минимальное значение интервала рыночных цен. Элемент обязателен для <DeterminationMethod> = 2 | U31: Ставка по долговому обязательству, признаваемая для целей налогообложения, % | V31: Дата признания дохода. Элемент обязателен для <INNOrgRegNumber> ≠ ПУСТО и <CounterpartyName> ≠ ПУСТО | W31: Сумма доходов в виде процентов по долговым обязательствам, включенных в состав внереализационных доходов, в валюте Элемент обязателен для <INNOrgRegNumber> ≠ ПУСТО и <CounterpartyName> ≠ ПУСТО | X31: Код валюты. Заполняется применительно к <SumInterestIncomeCurrency>. Принимает значение в соответствии с общероссийским классификатором валют (ОК (МК (ИСО 4217) 003-97) 014-2000), утвержденным Постановлением Госстандарта России от 25.12.2000 N 405-ст Элемент обязателен для <INNOrgRegNumber> ≠ ПУСТО и <CounterpartyName> ≠ ПУСТО | Y31: Курс ЦБ РФ. Элемент обязателен для <INNOrgRegNumber> ≠ ПУСТО и <CounterpartyName> ≠ ПУСТО При <CurrencyCode> = 643 принимает значение 1. При <CurrencyCode> ≠ 643 принимает значение в соответствии с значением графы "Курс", деленному на значение графы "Единиц" справочника Банка России значений курса иностранных валют" применительно к <CurrencyCode> и <RecognitionIncomeDate>. | Z31: Сумма доходов в виде процентов по долговым обязательствам, включенных в состав внереализационных доходов, в рублях | AA31: Разница между фактическими доходами по сделке (группе однородных сделок) и доходами, полученными в результате корректировки цены в сделке (группе однородных сделок), не соответствующей рыночной цене, в рублях. Элемент обязателен для <ControlledTransactions> = 1 при самостоятельной корректировке налоговой базы по истечении календарного года | AB31: Код вида дохода и применимой ставки налога (код). Принимает значение в соответствии со справочником "Виды доходов и применимые к ним налоговые ставки" | AC31: Код вида документа. Принимает значение кода вида документа по справочнику СПВДОК | AD31: Номер документа | AE31: Дата документа. | AF31: Идентификатор документа. Передается уникальный идентификатор, присвоенный документу в системе НП
A32: - | B32: - | C32: Признак обязательности элемента | D32: #N/A | E32: #N/A | F32: #N/A | G32: ОК | H32: НУ | I32: НУ | J32: О | K32: О | L32: НУ | M32: OK | N32: О | O32: ОК | P32: НУ | Q32: НУ | R32: НУ | S32: НУ | T32: НУ | U32: О | V32: НУ | W32: НУ | X32: НКУ | Y32: НКУ | Z32: О | AA32: НУ | AB32: ОК | AC32: ОК | AD32: О | AE32: О | AF32: О
A33: - | B33: - | C33: Размерность элемента | D33: #N/A | E33: #N/A | F33: #N/A | G33: (=1), значения:1|2|3 | H33: (1-255) | I33: (1-255) | J33: (1-128) | L33: (1-25) | M33: (=1), значения:1|2 | N33: (8.6) | O33: (=1), значения:1|2 | T33: (8.6) | U33: (8.6) | W33: (17.2) | X33: (=3) | Y33: (11.8) | Z33: (17.2) | AA33: (17.2) | AB33: (=4) | AC33: (=10) | AD33: (1-255) | AF33: (1-100)
A34: SREG05 | B34: VARNAME | C34: Элемент | D34: 0 | E34: 0 | F34: 0 | G34: 0 | H34: 0 | I34: 0 | J34: 0 | K34: 0 | L34: 0 | M34: 0 | N34: 0 | O34: 0 | P34: DebtTerm | Q34: DebtRateType | R34: RaisingFundsDate | S34: MinLimitValue | T34: 0 | U34: 0 | V34: 0 | W34: 0 | X34: 0 | Y34: 0 | Z34: 0 | AA34: 0 | AB34: 0 | AC34: 0 | AD34: 0 | AE34: 0 | AF34: 0
A35: SREG05 | B35: SERVDESCR | C35: Описание | D35: #N/A | E35: #N/A | F35: #N/A | G35: #N/A | H35: #N/A | I35: #N/A | J35: #N/A | K35: #N/A | L35: #N/A | M35: #N/A | N35: #N/A | O35: #N/A | P35: Срок долгового обязательства в соответствии с договором, в календарных днях. Элемент обязателен для: <CurrencyCode> = 156 | Q35: Вид ставки долгового обязательства. Принимает значение: 1 – нефиксированная | 2 – фиксированная и неизменная | R35: Дата привлечения денежных средств. Элемент обязателен для <DebtRateType> = 2 | S35: Минимальное значение интервала предельных значений | T35: #N/A | U35: #N/A | V35: #N/A | W35: #N/A | X35: #N/A | Y35: #N/A | Z35: #N/A | AA35: #N/A | AB35: #N/A | AC35: #N/A | AD35: #N/A | AE35: #N/A | AF35: #N/A
A36: - | B36: - | C36: Признак обязательности элемента | D36: #N/A | E36: #N/A | F36: #N/A | G36: #N/A | H36: #N/A | I36: #N/A | J36: #N/A | K36: #N/A | L36: #N/A | M36: #N/A | N36: #N/A | O36: #N/A | P36: НУ | Q36: ОК | R36: НУ | S36: О | T36: #N/A | U36: #N/A | V36: #N/A | W36: #N/A | X36: #N/A | Y36: #N/A | Z36: #N/A | AA36: #N/A | AB36: #N/A | AC36: #N/A | AD36: #N/A | AE36: #N/A | AF36: #N/A
A37: - | B37: - | C37: Размерность элемента | D37: #N/A | E37: #N/A | F37: #N/A | G37: #N/A | H37: #N/A | I37: #N/A | J37: #N/A | K37: #N/A | L37: #N/A | M37: #N/A | N37: #N/A | O37: #N/A | P37: (1-10) | Q37: (=1), значения:1|2 | S37: (8.6) | T37: #N/A | U37: #N/A | V37: #N/A | W37: #N/A | X37: #N/A | Y37: #N/A | Z37: #N/A | AA37: #N/A | AB37: #N/A | AC37: #N/A | AD37: #N/A | AE37: #N/A | AF37: #N/A
A38: SREG05 | B38: VariableType | C38: Тип элемента
A39: Элементы справочника регистров
A40: SREG05 | B40: KODRR | C40: Раздел регистра (1 - заголовочная часть, 2 - табличная часть) | D40: 2 | E40: 2 | F40: 2 | G40: 2 | H40: 2 | I40: 2 | J40: 2 | K40: 2 | L40: 2 | M40: 2 | N40: 2 | O40: 2 | P40: 2 | Q40: 2 | R40: 2 | S40: 2 | T40: 2 | U40: 2 | V40: 2 | W40: 2 | X40: 2 | Y40: 2 | Z40: 2 | AA40: 2 | AB40: 2 | AC40: 2 | AD40: 2 | AE40: 2 | AF40: 2
A41: SREG05 | B41: NAIMCR | C41: Наименование графы регистра | D41: Идентификатор записи | E41: Дата записи | F41: Показатель | G41: Контрагент (1 - физическое лицо, 2 - прочая организация, в т.ч. прочая МХК; 3 - МХК, удовлетворяющая условиям применения пониженной ставки) | H41: ИНН / Регистрационный номер в стране регистрации контрагента | I41: Наименование контрагента / ФИО | J41: Номер договора | K41: Дата договора | L41: Номер счета вклада (депозита), банковского счета | M41: Контролируемая сделка (1 - да, 2 - нет) | N41: Фактическая ставка по договору, % | O41: Метод определения ставки, признаваемой для целей налогообложения (1 - исходя из интервала предельных значений по ст. 269 НК РФ, 2 - исходя из интервала рыночных цен) | P41: Срок долгового обязательства в соответствии с договором, в календарных днях | Q41: Вид ставки долгового обязательства (1 - нефиксированная, 2 - фиксированная и неизменная) | R41: Дата привлечения денежных средств | S41: Минимальное значение интервала предельных значений | T41: Минимальное значение интервала рыночных цен | U41: Ставка по долговому обязательству, признаваемая для целей налогообложения, % | V41: Дата признания дохода | W41: Сумма доходов в виде процентов по долговым обязательствам, включенных в состав внереализационных доходов, в валюте | X41: Код валюты | Y41: Курс ЦБ РФ | Z41: Сумма доходов в виде процентов по долговым обязательствам, включенных в состав внереализационных доходов, в рублях | AA41: Разница между фактическими доходами по сделке (группе однородных сделок) и доходами, полученными в результате корректировки цены в сделке (группе однородных сделок), не соответствующей рыночной цене, в рублях | AB41: Код вида дохода и применимой ставки налога | AC41: Код вида документа | AD41: Номер документа | AE41: Дата документа | AF41: Идентификатор документа
...

Sheet 10102
A1: содержание модели
A2: столбцы/строки с серой заливкой не трогать!
A3: Заголовочная часть регистра
A4: KODRR | B4: NUMCC | C4: KODCR | D4: NAIMCR | F4: TYPECR | G4: NAIMSPR | H4: KODSPR | I4: PNK, STNK | J4: ALG01
A5: Раздел регистра (1 - заголовочная часть, 2 - табличная часть) | B5: Номер графы регистра | C5: Код графы регистра | D5: Наименование графы регистра | F5: Тип графы | G5: Наименование справочника | H5: Код справочника | I5: текстовый формат (для пояснений) | J5: Формула условий переноса данных из других регистров
A6: 1 | B6: 01 | C6: 10102101 | D6: ИНН / Регистрационный номер в стране регистрации организации | F6: типовой элемент <ИННЮЛТип>
A7: 1 | B7: 02 | C7: 10102102 | D7: Наименование организации | F7: строка
A8: 1 | B8: 03 | C8: 10102103 | D8: Статус организации (1 - Банк или организация, занимающаяся лизинговой деятельностью; 2 - МХК, удовлетворяющая условиям применения пониженной ставки; 3 - прочая организация, в т.ч. прочая МХК) | F8: число (0) | I8: п. 3 ст. 269 НК РФ п. 4 ст 269 НК РФ пп. 5 п. 4 ст. 284 НК РФ
A9: 1 | B9: 04 | C9: 10102104 | D9: Код налога | E9: 012501 | F9: справочник | G9: Ведомственный Справочник ФНС России – перечень налогов, сборов, страховых взносов (Справочник СПНС), порядок ведения которого утвержден Приказом ФНС России от 18.04.2023 № ЕД-7-23/254@ | H9: 0000008
A10: 1 | B10: 05 | C10: 10102105 | D10: Наименование налога, сбора, страховых взносов | E10: Налог на прибыль | F10: справочник | G10: Ведомственный Справочник ФНС России – перечень налогов, сборов, страховых взносов (Справочник СПНС), порядок ведения которого утвержден Приказом ФНС России от 18.04.2023 № ЕД-7-23/254@ | H10: 0000008
A11: 1 | B11: 06 | C11: 10102106 | D11: Код отчетного (налогового) периода | F11: справочник | G11: Коды, определяющие отчетный (налоговый) период, установленные в Приложении N 1 к Порядку заполнения налоговой декларации по налогу на прибыль организаций, утвержденному приказом ФНС России от 02.10.2024 N ЕД-7-3/830@ | H11: 0000003
A12: 1 | B12: 07 | C12: 10102107 | D12: Отчетный год | F12: дата (ГГГГ)
A13: 1 | B13: 08 | C13: 10102108 | D13: Код регистра | E13: 10102 | F13: справочник
A14: 1 | B14: 09 | C14: 10102109 | D14: Наименование регистра | E14: Расходы в виде процентов по долговым обязательствам (кроме расходов в виде процентов: по договорам займа ценных бумаг, по ценным бумагам и на депо премий по рискам, принятым в перестрахование) | F14: справочник
A15: 1 | B15: 10 | C15: 10102110 | D15: Номер корректировки | F15: число (0)
A16: 1 | B16: 11 | C16: 10102111 | D16: Регистрационный номер декларации | F16: число (0)
A18: Табличная часть регистра
A19: Элементы сервиса
A20: SREG05 | B20: VARNAME | C20: Сервис | D20: TaxReg10102Info | E20: TaxReg10102Info | F20: TaxReg10102Info | G20: TaxReg10102Info | H20: TaxReg10102Info | I20: TaxReg10102Info | J20: TaxReg10102Info | K20: TaxReg10102Info | L20: TaxReg10102Info | M20: TaxReg10102Info | N20: TaxReg10102Info | O20: TaxReg10102Info | P20: TaxReg10102Info | Q20: TaxReg10102Info | R20: TaxReg10102Info | S20: TaxReg10102Info | T20: TaxReg10102Info | U20: TaxReg10102Info | V20: TaxReg10102Info | W20: TaxReg10102Info | X20: TaxReg10102Info | Y20: TaxReg10102Info | Z20: TaxReg10102Info | AA20: TaxReg10102Info | AB20: TaxReg10102Info | AC20: TaxReg10102Info | AD20: TaxReg10102Info | AE20: TaxReg10102Info | AF20: TaxReg10102Info | AG20: TaxReg10102Info | AH20: TaxReg10102Info | AI20: TaxReg10102Info | AJ20: TaxReg10102Info | AK20: TaxReg10102Info | AL20: TaxReg10102Info | AM20: TaxReg10102Info
A21: SREG05 | B21: VARNAME | C21: Элемент | D21: TaxReg10102InfoBody | E21: TaxReg10102InfoBody | F21: TaxReg10102InfoBody | G21: TaxReg10102InfoBody | H21: TaxReg10102InfoBody | I21: TaxReg10102InfoBody | J21: TaxReg10102InfoBody | K21: TaxReg10102InfoBody | L21: TaxReg10102InfoBody | M21: TaxReg10102InfoBody | N21: TaxReg10102InfoBody | O21: TaxReg10102InfoBody | P21: TaxReg10102InfoBody | Q21: TaxReg10102InfoBody | R21: TaxReg10102InfoBody | S21: TaxReg10102InfoBody | T21: TaxReg10102InfoBody | U21: TaxReg10102InfoBody | V21: TaxReg10102InfoBody | W21: TaxReg10102InfoBody | X21: TaxReg10102InfoBody | Y21: TaxReg10102InfoBody | Z21: TaxReg10102InfoBody | AA21: TaxReg10102InfoBody | AB21: TaxReg10102InfoBody | AC21: TaxReg10102InfoBody | AD21: TaxReg10102InfoBody | AE21: TaxReg10102InfoBody | AF21: TaxReg10102InfoBody | AG21: TaxReg10102InfoBody | AH21: TaxReg10102InfoBody | AI21: TaxReg10102InfoBody | AJ21: TaxReg10102InfoBody | AK21: TaxReg10102InfoBody | AL21: TaxReg10102InfoBody | AM21: TaxReg10102InfoBody
A22: SREG05 | B22: VARNAME | C22: Элемент | D22: RegisterRecord10102 | E22: RegisterRecord10102 | F22: RegisterRecord10102 | G22: RegisterRecord10102 | H22: RegisterRecord10102 | I22: RegisterRecord10102 | J22: RegisterRecord10102 | K22: RegisterRecord10102 | L22: RegisterRecord10102 | M22: RegisterRecord10102 | N22: RegisterRecord10102 | O22: RegisterRecord10102 | P22: RegisterRecord10102 | Q22: RegisterRecord10102 | R22: RegisterRecord10102 | S22: RegisterRecord10102 | T22: RegisterRecord10102 | U22: RegisterRecord10102 | V22: RegisterRecord10102 | W22: RegisterRecord10102 | X22: RegisterRecord10102 | Y22: RegisterRecord10102 | Z22: RegisterRecord10102 | AA22: RegisterRecord10102 | AB22: RegisterRecord10102 | AC22: RegisterRecord10102 | AD22: RegisterRecord10102 | AE22: RegisterRecord10102 | AF22: RegisterRecord10102 | AG22: RegisterRecord10102 | AH22: RegisterRecord10102 | AI22: RegisterRecord10102 | AJ22: RegisterRecord10102 | AK22: RegisterRecord10102 | AL22: RegisterRecord10102 | AM22: RegisterRecord10102
A23: SREG05 | B23: SERVDESCR | C23: Описание | D23: Информация о записях регистра 10102. Элемент обязателен 1) Если <ReasonRequestData> = 1 и <TaxPeriod> ≠ 34 или 46 или 50 2) Если <ReasonRequestData> = 1 или 2 и <TaxPeriod> = 34 или 46 или 50 | E23: Информация о записях регистра 10102. Элемент обязателен 1) Если <ReasonRequestData> = 1 и <TaxPeriod> ≠ 34 или 46 или 50 2) Если <ReasonRequestData> = 1 или 2 и <TaxPeriod> = 34 или 46 или 50 | F23: Информация о записях регистра 10102. Элемент обязателен 1) Если <ReasonRequestData> = 1 и <TaxPeriod> ≠ 34 или 46 или 50 2) Если <ReasonRequestData> = 1 или 2 и <TaxPeriod> = 34 или 46 или 50 | G23: Информация о записях регистра 10102. Элемент обязателен 1) Если <ReasonRequestData> = 1 и <TaxPeriod> ≠ 34 или 46 или 50 2) Если <ReasonRequestData> = 1 или 2 и <TaxPeriod> = 34 или 46 или 50 | H23: Информация о записях регистра 10102. Элемент обязателен 1) Если <ReasonRequestData> = 1 и <TaxPeriod> ≠ 34 или 46 или 50 2) Если <ReasonRequestData> = 1 или 2 и <TaxPeriod> = 34 или 46 или 50 | I23: Информация о записях регистра 10102. Элемент обязателен 1) Если <ReasonRequestData> = 1 и <TaxPeriod> ≠ 34 или 46 или 50 2) Если <ReasonRequestData> = 1 или 2 и <TaxPeriod> = 34 или 46 или 50 | J23: Информация о записях регистра 10102. Элемент обязателен 1) Если <ReasonRequestData> = 1 и <TaxPeriod> ≠ 34 или 46 или 50 2) Если <ReasonRequestData> = 1 или 2 и <TaxPeriod> = 34 или 46 или 50 | K23: Информация о записях регистра 10102. Элемент обязателен 1) Если <ReasonRequestData> = 1 и <TaxPeriod> ≠ 34 или 46 или 50 2) Если <ReasonRequestData> = 1 или 2 и <TaxPeriod> = 34 или 46 или 50 | L23: Информация о записях регистра 10102. Элемент обязателен 1) Если <ReasonRequestData> = 1 и <TaxPeriod> ≠ 34 или 46 или 50 2) Если <ReasonRequestData> = 1 или 2 и <TaxPeriod> = 34 или 46 или 50 | M23: Информация о записях регистра 10102. Элемент обязателен 1) Если <ReasonRequestData> = 1 и <TaxPeriod> ≠ 34 или 46 или 50 2) Если <ReasonRequestData> = 1 или 2 и <TaxPeriod> = 34 или 46 или 50 | N23: Информация о записях регистра 10102. Элемент обязателен 1) Если <ReasonRequestData> = 1 и <TaxPeriod> ≠ 34 или 46 или 50 2) Если <ReasonRequestData> = 1 или 2 и <TaxPeriod> = 34 или 46 или 50 | O23: Информация о записях регистра 10102. Элемент обязателен 1) Если <ReasonRequestData> = 1 и <TaxPeriod> ≠ 34 или 46 или 50 2) Если <ReasonRequestData> = 1 или 2 и <TaxPeriod> = 34 или 46 или 50 | P23: Информация о записях регистра 10102. Элемент обязателен 1) Если <ReasonRequestData> = 1 и <TaxPeriod> ≠ 34 или 46 или 50 2) Если <ReasonRequestData> = 1 или 2 и <TaxPeriod> = 34 или 46 или 50 | Q23: Информация о записях регистра 10102. Элемент обязателен 1) Если <ReasonRequestData> = 1 и <TaxPeriod> ≠ 34 или 46 или 50 2) Если <ReasonRequestData> = 1 или 2 и <TaxPeriod> = 34 или 46 или 50 | R23: Информация о записях регистра 10102. Элемент обязателен 1) Если <ReasonRequestData> = 1 и <TaxPeriod> ≠ 34 или 46 или 50 2) Если <ReasonRequestData> = 1 или 2 и <TaxPeriod> = 34 или 46 или 50 | S23: Информация о записях регистра 10102. Элемент обязателен 1) Если <ReasonRequestData> = 1 и <TaxPeriod> ≠ 34 или 46 или 50 2) Если <ReasonRequestData> = 1 или 2 и <TaxPeriod> = 34 или 46 или 50 | T23: Информация о записях регистра 10102. Элемент обязателен 1) Если <ReasonRequestData> = 1 и <TaxPeriod> ≠ 34 или 46 или 50 2) Если <ReasonRequestData> = 1 или 2 и <TaxPeriod> = 34 или 46 или 50 | U23: Информация о записях регистра 10102. Элемент обязателен 1) Если <ReasonRequestData> = 1 и <TaxPeriod> ≠ 34 или 46 или 50 2) Если <ReasonRequestData> = 1 или 2 и <TaxPeriod> = 34 или 46 или 50 | V23: Информация о записях регистра 10102. Элемент обязателен 1) Если <ReasonRequestData> = 1 и <TaxPeriod> ≠ 34 или 46 или 50 2) Если <ReasonRequestData> = 1 или 2 и <TaxPeriod> = 34 или 46 или 50 | W23: Информация о записях регистра 10102. Элемент обязателен 1) Если <ReasonRequestData> = 1 и <TaxPeriod> ≠ 34 или 46 или 50 2) Если <ReasonRequestData> = 1 или 2 и <TaxPeriod> = 34 или 46 или 50 | X23: Информация о записях регистра 10102. Элемент обязателен 1) Если <ReasonRequestData> = 1 и <TaxPeriod> ≠ 34 или 46 или 50 2) Если <ReasonRequestData> = 1 или 2 и <TaxPeriod> = 34 или 46 или 50 | Y23: Информация о записях регистра 10102. Элемент обязателен 1) Если <ReasonRequestData> = 1 и <TaxPeriod> ≠ 34 или 46 или 50 2) Если <ReasonRequestData> = 1 или 2 и <TaxPeriod> = 34 или 46 или 50 | Z23: Информация о записях регистра 10102. Элемент обязателен 1) Если <ReasonRequestData> = 1 и <TaxPeriod> ≠ 34 или 46 или 50 2) Если <ReasonRequestData> = 1 или 2 и <TaxPeriod> = 34 или 46 или 50 | AA23: Информация о записях регистра 10102. Элемент обязателен 1) Если <ReasonRequestData> = 1 и <TaxPeriod> ≠ 34 или 46 или 50 2) Если <ReasonRequestData> = 1 или 2 и <TaxPeriod> = 34 или 46 или 50 | AB23: Информация о записях регистра 10102. Элемент обязателен 1) Если <ReasonRequestData> = 1 и <TaxPeriod> ≠ 34 или 46 или 50 2) Если <ReasonRequestData> = 1 или 2 и <TaxPeriod> = 34 или 46 или 50 | AC23: Информация о записях регистра 10102. Элемент обязателен 1) Если <ReasonRequestData> = 1 и <TaxPeriod> ≠ 34 или 46 или 50 2) Если <ReasonRequestData> = 1 или 2 и <TaxPeriod> = 34 или 46 или 50 | AD23: Информация о записях регистра 10102. Элемент обязателен 1) Если <ReasonRequestData> = 1 и <TaxPeriod> ≠ 34 или 46 или 50 2) Если <ReasonRequestData> = 1 или 2 и <TaxPeriod> = 34 или 46 или 50 | AE23: Информация о записях регистра 10102. Элемент обязателен 1) Если <ReasonRequestData> = 1 и <TaxPeriod> ≠ 34 или 46 или 50 2) Если <ReasonRequestData> = 1 или 2 и <TaxPeriod> = 34 или 46 или 50 | AF23: Информация о записях регистра 10102. Элемент обязателен 1) Если <ReasonRequestData> = 1 и <TaxPeriod> ≠ 34 или 46 или 50 2) Если <ReasonRequestData> = 1 или 2 и <TaxPeriod> = 34 или 46 или 50 | AG23: Информация о записях регистра 10102. Элемент обязателен 1) Если <ReasonRequestData> = 1 и <TaxPeriod> ≠ 34 или 46 или 50 2) Если <ReasonRequestData> = 1 или 2 и <TaxPeriod> = 34 или 46 или 50 | AH23: Информация о записях регистра 10102. Элемент обязателен 1) Если <ReasonRequestData> = 1 и <TaxPeriod> ≠ 34 или 46 или 50 2) Если <ReasonRequestData> = 1 или 2 и <TaxPeriod> = 34 или 46 или 50 | AI23: Информация о записях регистра 10102. Элемент обязателен 1) Если <ReasonRequestData> = 1 и <TaxPeriod> ≠ 34 или 46 или 50 2) Если <ReasonRequestData> = 1 или 2 и <TaxPeriod> = 34 или 46 или 50 | AJ23: Информация о записях регистра 10102. Элемент обязателен 1) Если <ReasonRequestData> = 1 и <TaxPeriod> ≠ 34 или 46 или 50 2) Если <ReasonRequestData> = 1 или 2 и <TaxPeriod> = 34 или 46 или 50 | AK23: Информация о записях регистра 10102. Элемент обязателен 1) Если <ReasonRequestData> = 1 и <TaxPeriod> ≠ 34 или 46 или 50 2) Если <ReasonRequestData> = 1 или 2 и <TaxPeriod> = 34 или 46 или 50 | AL23: Информация о записях регистра 10102. Элемент обязателен 1) Если <ReasonRequestData> = 1 и <TaxPeriod> ≠ 34 или 46 или 50 2) Если <ReasonRequestData> = 1 или 2 и <TaxPeriod> = 34 или 46 или 50 | AM23: Информация о записях регистра 10102. Элемент обязателен 1) Если <ReasonRequestData> = 1 и <TaxPeriod> ≠ 34 или 46 или 50 2) Если <ReasonRequestData> = 1 или 2 и <TaxPeriod> = 34 или 46 или 50
A24: - | B24: - | C24: Признак обязательности элемента | D24: НМУ | E24: НМУ | F24: НМУ | G24: НМУ | H24: НМУ | I24: НМУ | J24: НМУ | K24: НМУ | L24: НМУ | M24: НМУ | N24: НМУ | O24: НМУ | P24: НМУ | Q24: НМУ | R24: НМУ | S24: НМУ | T24: НМУ | U24: НМУ | V24: НМУ | W24: НМУ | X24: НМУ | Y24: НМУ | Z24: НМУ | AA24: НМУ | AB24: НМУ | AC24: НМУ | AD24: НМУ | AE24: НМУ | AF24: НМУ | AG24: НМУ | AH24: НМУ | AI24: НМУ | AJ24: НМУ | AK24: НМУ | AL24: НМУ | AM24: НМУ
A25: - | B25: - | C25: Размерность элемента
A26: SREG05 | B26: VARNAME | C26: Элемент | D26: RecordId | E26: RecordDate | F26: RecordType | G26: CounterpartyInfo10102 | H26: CounterpartyInfo10102 | I26: CounterpartyInfo10102 | J26: CounterpartyInfo10102 | K26: ContractInfo10102 | L26: ContractInfo10102 | M26: ContractInfo10102 | N26: LenderStatus | O26: DebtInfo | P26: DebtInfo | Q26: ControlledTransactions | R26: ControlledTransactionsInfo | S26: ControlledTransactionsInfo | T26: ControlledTransactionsInfo | U26: ControlledTransactionsInfo | V26: ControlledTransactionsInfo | W26: ControlledTransactionsInfo | X26: ControlledTransactionsInfo | Y26: ControlledTransactionsInfo | Z26: ControlledTransactionsInfo | AA26: DebtExpenseInfo | AB26: DebtExpenseInfo | AC26: DebtExpenseInfo | AD26: DebtExpenseInfo | AE26: DebtExpenseInfo | AF26: DebtExpenseInfo | AG26: DebtExpenseInfo | AH26: DebtExpenseInfo | AI26: DebtExpenseInfo | AJ26: DocInfo | AK26: DocInfo | AL26: DocInfo | AM26: DocInfo
A27: SREG05 | B27: SERVDESCR | C27: Описание | D27: Идентификатор записи в системе налогоплательщика. Идентификатор должен быть уникальным по каждой записи. | E27: Дата записи в системе налогоплательщика. | F27: Показатель. Принимает значение в соответствии со справочником "Показатели классификатора ФНС" | G27: Сведения о контрагенте. | H27: Сведения о контрагенте. | I27: Сведения о контрагенте. | J27: Сведения о контрагенте. | K27: Сведения о договоре. Элемент обязателен для <INNOrgRegNumber> ≠ ПУСТО и <CounterpartyName> ≠ ПУСТО. | L27: Сведения о договоре. Элемент обязателен для <INNOrgRegNumber> ≠ ПУСТО и <CounterpartyName> ≠ ПУСТО. | M27: Сведения о договоре. Элемент обязателен для <INNOrgRegNumber> ≠ ПУСТО и <CounterpartyName> ≠ ПУСТО. | N27: Статус кредитора. Принимает значения: 1 – иностранное лицо, являющееся взаимозависимым | 2 – лицо, признаваемое взаимозависимым с иностранным лицом | 3 – иностранное лицо (1) и (или) его взаимозависимое лицо (2) выступает поручителем (гарантом) по долговому обязательству | 4 - иное лицо, задолженность которого признана контролируемой в судебном порядке | 5 - Иное лицо Элемент обязателен для <ReasonRequestData> = 1 | O27: Сведения о задолженности. Элемент обязателен для <LenderStatus> = 1 или 2 или 3 или 4 | P27: Сведения о задолженности. Элемент обязателен для <LenderStatus> = 1 или 2 или 3 или 4 | Q27: Контролируемая сделка. Принимает значение: 1 – да | 2 – нет Элемент обязателен для <TaxPeriod> = 34 или 46 или 50 | R27: Сведения о контролируемой сделке. Элемент обязателен для <ControlledTransactions> = 1 | S27: Сведения о контролируемой сделке. Элемент обязателен для <ControlledTransactions> = 1 | T27: Сведения о контролируемой сделке. Элемент обязателен для <ControlledTransactions> = 1 | U27: Сведения о контролируемой сделке. Элемент обязателен для <ControlledTransactions> = 1 | V27: Сведения о контролируемой сделке. Элемент обязателен для <ControlledTransactions> = 1 | W27: Сведения о контролируемой сделке. Элемент обязателен для <ControlledTransactions> = 1 | X27: Сведения о контролируемой сделке. Элемент обязателен для <ControlledTransactions> = 1 | Y27: Сведения о контролируемой сделке. Элемент обязателен для <ControlledTransactions> = 1 | Z27: Сведения о контролируемой сделке. Элемент обязателен для <ControlledTransactions> = 1 | AA27: Сведения о расходах ДО. | AB27: Сведения о расходах ДО. | AC27: Сведения о расходах ДО. | AD27: Сведения о расходах ДО. | AE27: Сведения о расходах ДО. | AF27: Сведения о расходах ДО. | AG27: Сведения о расходах ДО. | AH27: Сведения о расходах ДО. | AI27: Сведения о расходах ДО. | AJ27: Сведения о документах. | AK27: Сведения о документах. | AL27: Сведения о документах. | AM27: Сведения о документах.
A28: - | B28: - | C28: Признак обязательности элемента | D28: О | E28: О | F28: ОК | G28: О | H28: О | I28: О | J28: О | K28: НУ | L28: НУ | M28: НУ | N28: НКУ | O28: НУ | P28: НУ | Q28: НКУ | R28: НУ | S28: НУ | T28: НУ | U28: НУ | V28: НУ | W28: НУ | X28: НУ | Y28: НУ | Z28: НУ | AA28: О | AB28: О | AC28: О | AD28: О | AE28: О | AF28: О | AG28: О | AH28: О | AI28: О | AJ28: ОМ | AK28: ОМ | AL28: ОМ | AM28: ОМ
A29: - | B29: - | C29: Размерность элемента | D29: (=36) | F29: (1-1000) | N29: (=1), значения:1|2|3|4|5 | Q29: (=1),значения:1|2
A30: SREG05 | B30: VARNAME | C30: Элемент | D30: 0 | E30: 0 | F30: 0 | G30: CounterpartyType | H30: INNOrgRegNumber | I30: CounterpartyName | J30: DigitalCode | K30: ContractNumber | L30: ContractDate | M30: AccountNumberDeposit | N30: 0 | O30: DebtControlled | P30: OutstandingDebtAppGroundUncontrolled | Q30: 0 | R30: EffectiveRateInfo | S30: EffectiveRateInfo | T30: DeterminationMethod | U30: LimitValueDataInfo | V30: LimitValueDataInfo | W30: LimitValueDataInfo | X30: LimitValueDataInfo | Y30: MaxMarketPrice | Z30: TaxInterestRate | AA30: RecognitionExpenseDate | AB30: SumDebtAccruedIntCurrency | AC30: CurrencyCode | AD30: RateExchange | AE30: SumDebtAccruedIntRUB | AF30: SumInterestExpenseRUB | AG30: DifferenceRevenue | AH30: SumInterestCalculatedRUB | AI30: SumInterestExpenseUncontrolledDebtRUB | AJ30: DocumentCode | AK30: DocNumber | AL30: DocDate | AM30: DocumentId
A31: SREG05 | B31: SERVDESCR | C31: Описание | D31: #N/A | E31: #N/A | F31: #N/A | G31: Контрагент. Принимает значение: 1 – физическое лицо | 2 – юридическое лицо | H31: ИНН / Регистрационный номер в стране регистрации контрагента Элемент обязателен для: 1) <OrgType> = 1 и <CounterpartyType> = 1 и <ControlledTransactions> = 1; 2) <OrgType> = 1 и <CounterpartyType> = 2; 3) <OrgType> = 2 или 3. | I31: Наименование контрагента / ФИО. Элемент обязателен для: 1) <OrgType> = 1 и <CounterpartyType> = 1 и <ControlledTransactions> = 1; 2) <OrgType> = 1 и <CounterpartyType> = 2; 3) <OrgType> = 2 или 3. | J31: Цифровой код государства постоянного местонахождения (налогового резидентства) контрагента. Элемент обязателен для <CounterpartyType> = 2. Принимает значение в соответствии с общероссийским классификатором стран мира (ОК (МК (ИСО 3166) 004-97) 025-2001. Общероссийский классификатор стран мира), утвержденным Постановлением Госстандарта России от 14.12.2001 N 529-ст | K31: Номер договора | L31: Дата договора. | M31: Номер счета вклада (депозита), банковского счета. Элемент обязателен для <RecordType> = "Расходы в виде процентов по депозитам, банковским вкладам"| "Расходы в виде процентов по договорам банковского счета"|"Расходы в виде процентов по банковским ссудам". | N31: #N/A | O31: Задолженность контролируемая. Принимает значения: 1 – да | 2 – нет | P31: Применение оснований для признания непогашенной задолженности неконтролируемой по п. 7-9 ст. 269 НК РФ. Принимает значение: 1 – да | 2 – нет. Элемент обязателен для <DebtControlled> = 2 | R31: Сведения о фактической ставке. | S31: Сведения о фактической ставке. | T31: Метод определения ставки, признаваемой для целей налогообложения. Принимает значение: 1 – исходя из интервала предельных значений по ст. 269 НК РФ | 2 – исходя из интервала рыночных цен | U31: Сведения о данных предельных значений. Элемент обязателен для <DeterminationMethod> = 1 | V31: Сведения о данных предельных значений. Элемент обязателен для <DeterminationMethod> = 1 | W31: Сведения о данных предельных значений. Элемент обязателен для <DeterminationMethod> = 1 | X31: Сведения о данных предельных значений. Элемент обязателен для <DeterminationMethod> = 1 | Y31: Максимальное значение интервала рыночных цен. Элемент обязателен для <DeterminationMethod> = 2 | Z31: Ставка по долговому обязательству, признаваемая для целей налогообложения, % | AA31: Дата признания расхода. Элемент обязателен для <INNOrgRegNumber> ≠ ПУСТО и <CounterpartyName> ≠ ПУСТО | AB31: Сумма начисленных процентов по долговому обязательству, в валюте Элемент обязателен для <INNOrgRegNumber> ≠ ПУСТО и <CounterpartyName> ≠ ПУСТО | AC31: Код валюты. Элемент обязателен для <INNOrgRegNumber> ≠ ПУСТО и <CounterpartyName> ≠ ПУСТО Заполняется применительно к <SumDebtAccruedIntCurrency>. Принимает значение в соответствии с общероссийским классификатором валют (ОК (МК (ИСО 4217) 003-97) 014-2000), утвержденным Постановлением Госстандарта России от 25.12.2000 N 405-ст | AD31: Курс ЦБ РФ. Элемент обязателен для <INNOrgRegNumber> ≠ ПУСТО и <CounterpartyName> ≠ ПУСТО Для <CurrencyCode> = 643 элемент принимает значение 1. Для <CurrencyCode> ≠ 643 элемент принимает значение в соответствии с значением из справочника Банка России значений курса иностранных валют, деленному на значение единиц, применительно к <CurrencyCode> и <RecognitionExpenseDate> | AE31: Сумма начисленных процентов по долговому обязательству, в рублях | AF31: Сумма расходов в виде процентов по долговому обязательству, не соответствующих критериям, указанным в п. 1 ст. 252 НК РФ, в рублях. Элемент обязателен при наличии оснований | AG31: Разница между фактическими расходами по сделке (группе однородных сделок) и расходами, полученными в результате корректировки цены в сделке (группе однородных сделок), не соответствующей рыночной цене, в рублях Элемент обязателен для <ControlledTransactions> = 1 и <TaxInterestRate> < <EffectiveRate> при самостоятельной корректировке налоговой базы по истечении календарного года | AH31: Сумма процентов, исчисленных исходя из предельного размера ставки процентов, в рублях. Элемент обязателен при <ControlledTransactions> = 1 | AI31: Сумма расходов в виде процентов по долговым обязательствам, не являющимся контролируемой задолженностью, подлежащих включению в состав расходов, в рублях. Элемент обязателен для 1) <DebtControlled> = 2; 2) <DebtControlled> = ПУСТО | AJ31: Код вида документа. Принимает значение кода вида документа по справочнику СПВДОК | AK31: Номер документа | AL31: Дата документа. | AM31: Идентификатор документа. Передается уникальный идентификатор, присвоенный документу в системе НП
A32: - | B32: - | C32: Признак обязательности элемента | D32: #N/A | E32: #N/A | F32: #N/A | G32: ОК | H32: НУ | I32: НУ | J32: НКУ | K32: О | L32: О | M32: НУ | N32: #N/A | O32: ОК | P32: НКУ | Q32: #N/A | R32: О | S32: О | T32: ОК | U32: НУ | V32: НУ | W32: НУ | X32: НУ | Y32: НУ | Z32: О | AA32: НУ | AB32: НУ | AC32: НКУ | AD32: НКУ | AE32: О | AF32: Н | AG32: НУ | AH32: НУ | AI32: НУ | AJ32: ОК | AK32: О | AL32: О | AM32: О
A33: - | B33: - | C33: Размерность элемента | D33: #N/A | E33: #N/A | F33: #N/A | G33: (=1), значения:1|2 | H33: (1-255) | I33: (1-255) | J33: (=3) | K33: (1-128) | M33: (1-25) | N33: #N/A | O33: (=1), значения:1|2 | P33: (=1), значения:1|2 | Q33: #N/A | T33: (=1), значения:1|2 | Y33: (8.6) | Z33: (8.6) | AB33: (17.2) | AC33: (=3) | AD33: (11.8) | AE33: (17.2) | AF33: (17.2) | AG33: (17.2) | AH33: (17.2) | AI33: (17.2) | AJ33: (=10) | AK33: (1-255) | AM33: (1-100)
A34: SREG05 | B34: VARNAME | C34: Элемент | D34: 0 | E34: 0 | F34: 0 | G34: 0 | H34: 0 | I34: 0 | J34: 0 | K34: 0 | L34: 0 | M34: 0 | N34: 0 | O34: 0 | P34: 0 | Q34: 0 | R34: EffectiveRate | S34: PeriodCapitalizationNumber | T34: 0 | U34: DebtTerm | V34: DebtRateType | W34: RaisingFundsDate | X34: MaxLimitValue | Y34: 0 | Z34: 0 | AA34: 0 | AB34: 0 | AC34: 0 | AD34: 0 | AE34: 0 | AF34: 0 | AG34: 0 | AH34: 0 | AI34: 0 | AJ34: 0 | AK34: 0 | AL34: 0 | AM34: 0
A35: SREG05 | B35: SERVDESCR | C35: Описание | D35: #N/A | E35: #N/A | F35: #N/A | G35: #N/A | H35: #N/A | I35: #N/A | J35: #N/A | K35: #N/A | L35: #N/A | M35: #N/A | N35: #N/A | O35: #N/A | P35: #N/A | Q35: #N/A | R35: Фактическая ставка по договору, % | S35: Число периодов капитализации процентов в месяц в соответствии с договором. Элемент обязателен при наличии в договоре условий капитализации процентов чаще, чем 1 раз в месяц | T35: #N/A | U35: Срок долгового обязательства в соответствии с договором, в календарных днях. | V35: Вид ставки долгового обязательства. Принимает значение: 1 – нефиксированная | 2 – фиксированная и неизменная | W35: Дата привлечения денежных средств. Элемент обязателен для <DebtRateType> = 2 | X35: Максимальное значение интервала предельных значений | Y35: #N/A | Z35: #N/A | AA35: #N/A | AB35: #N/A | AC35: #N/A | AD35: #N/A | AE35: #N/A | AF35: #N/A | AG35: #N/A | AH35: #N/A | AI35: #N/A | AJ35: #N/A | AK35: #N/A | AL35: #N/A | AM35: #N/A
A36: - | B36: - | C36: Признак обязательности элемента | D36: #N/A | E36: #N/A | F36: #N/A | G36: #N/A | H36: #N/A | I36: #N/A | J36: #N/A | K36: #N/A | L36: #N/A | M36: #N/A | N36: #N/A | O36: #N/A | P36: #N/A | Q36: #N/A | R36: О | S36: Н | T36: #N/A | U36: О | V36: ОК | W36: НУ | X36: О | Y36: #N/A | Z36: #N/A | AA36: #N/A | AB36: #N/A | AC36: #N/A | AD36: #N/A | AE36: #N/A | AF36: #N/A | AG36: #N/A | AH36: #N/A | AI36: #N/A | AJ36: #N/A | AK36: #N/A | AL36: #N/A | AM36: #N/A
A37: - | B37: - | C37: Размерность элемента | D37: #N/A | E37: #N/A | F37: #N/A | G37: #N/A | H37: #N/A | I37: #N/A | J37: #N/A | K37: #N/A | L37: #N/A | M37: #N/A | N37: #N/A | O37: #N/A | P37: #N/A | Q37: #N/A | R37: (8.6) | S37: (1-8) | T37: #N/A | U37: (1-10) | V37: (=1), значения:1|2 | X37: (8.6) | Y37: #N/A | Z37: #N/A | AA37: #N/A | AB37: #N/A | AC37: #N/A | AD37: #N/A | AE37: #N/A | AF37: #N/A | AG37: #N/A | AH37: #N/A | AI37: #N/A | AJ37: #N/A | AK37: #N/A | AL37: #N/A | AM37: #N/A
A38: SREG05 | B38: VariableType | C38: Тип элемента
A39: Элементы справочника регистров
A40: SREG05 | B40: KODRR | C40: Раздел регистра (1 - заголовочная часть, 2 - табличная часть) | D40: 2 | E40: 2 | F40: 2 | G40: 2 | H40: 2 | I40: 2 | J40: 2 | K40: 2 | L40: 2 | M40: 2 | N40: 2 | O40: 2 | P40: 2 | Q40: 2 | R40: 2 | S40: 2 | T40: 2 | U40: 2 | V40: 2 | W40: 2 | X40: 2 | Y40: 2 | Z40: 2 | AA40: 2 | AB40: 2 | AC40: 2 | AD40: 2 | AE40: 2 | AF40: 2 | AG40: 2 | AH40: 2 | AI40: 2 | AJ40: 2 | AK40: 2 | AL40: 2 | AM40: 2
A41: SREG05 | B41: NAIMCR | C41: Наименование графы регистра | D41: Идентификатор записи | E41: Дата записи | F41: Показатель | G41: Контрагент (1 - физическое лицо, 2 - юридическое лицо ) | H41: ИНН / Регистрационный номер в стране регистрации контрагента | I41: Наименование контрагента / ФИО | J41: Цифровой код государства постоянного местонахождения (налогового резидентства) контрагента | K41: Номер договора | L41: Дата договора | M41: Номер счета вклада (депозита), банковского счета | N41: Статус кредитора (1 - иностранное лицо, являющееся взаимозависимым, 2 - лицо, признаваемое взаимозависимым с иностранным лицом, 3 - иностранное лицо (1) и (или) его взаимозависимое лицо (2) выступает поручителем (гарантом) по долговому обязательству, 4 - иное лицо, задолженность которого признана контролируемой в судебном порядке, 5 - Иное лицо) | O41: Задолженность контролируемая (1 - да, 2 - нет) | P41: Применение оснований для признания непогашенной задолженности неконтролируемой по п. 7-9 ст. 269 НК РФ (1 - да, 2 - нет) | Q41: Контролируемая сделка (1 - да, 2 - нет) | R41: Фактическая ставка по договору, % | S41: Число периодов капитализации процентов в месяц в соответствии с договором | T41: Метод определения ставки, признаваемой для целей налогообложения (1 - исходя из интервала предельных значений по ст. 269 НК РФ, 2 - исходя из интервала рыночных цен) | U41: Срок долгового обязательства в соответствии с договором, в календарных днях | V41: Вид ставки долгового обязательства (1 - нефиксированная, 2 - фиксированная и неизменная) | W41: Дата привлечения денежных средств | X41: Максимальное значение интервала предельных значений | Y41: Максимальное значение интервала рыночных цен | Z41: Ставка по долговому обязательству, признаваемая для целей налогообложения, % | AA41: Дата признания расхода | AB41: Сумма начисленных процентов по долговому обязательству, в валюте | AC41: Код валюты | AD41: Курс ЦБ РФ | AE41: Сумма начисленных процентов по долговому обязательству, в рублях | AF41: Сумма расходов в виде процентов по долговому обязательству, не соответствующих критериям, указанным в п. 1 ст. 252 НК РФ, в рублях | AG41: Разница между фактическими расходами по сделке (группе однородных сделок) и расходами, полученными в результате корректировки цены в сделке (группе однородных сделок), не соответствующей рыночной цене, в рублях | AH41: Сумма процентов, исчисленных исходя из предельного размера ставки процентов, в рублях | AI41: Сумма расходов в виде процентов по долговым обязательствам, не являющимся контролируемой задолженностью, подлежащих включению в состав расходов, в рублях | AJ41: Код вида документа | AK41: Номер документа | AL41: Дата документа | AM41: Идентификатор документа
...

Sheet 10103
A1: содержание модели
A2: столбцы/строки с серой заливкой не трогать!
A3: Заголовочная часть регистра
A4: KODRR | B4: NUMCC | C4: KODCR | D4: NAIMCR | F4: TYPECR | G4: NAIMSPR | H4: KODSPR | I4: PNK, STNK | J4: ALG01
